BEGIN:VCALENDAR
PRODID:-//AT Content Types//AT Event//EN
VERSION:2.0
METHOD:PUBLISH
BEGIN:VEVENT
DTSTAMP:20260421T193429Z
CREATED:20131216T143919Z
UID:ATEvent-b5e9ad4ce16505043927c13dd0669a2c
LAST-MODIFIED:20220804T144632Z
SUMMARY:Centrale Rischi: istruzioni per l'uso
DTSTART:20140619T080000Z
DTEND:20140619T110000Z
DESCRIPTION:Illustrare il funzionamento\, le finalità degli impatti c
 he la centrale rischi ha sulla definizione del merito di credito dell'
 azienda.
LOCATION:- Assolombarda - Sala Falck (piano interrato) - Via Chiaravalle 8\, Milano
CONTACT:fin@assolombarda.it
URL:https://www.assolombarda.it/servizi/credito-finanza-e-incentivi/appuntamenti/centrale-rischi-istruzioni-per-luso
CLASS:PUBLIC
END:VEVENT
END:VCALENDAR
