BEGIN:VCALENDAR
PRODID:-//AT Content Types//AT Event//EN
VERSION:2.0
METHOD:PUBLISH
BEGIN:VEVENT
DTSTAMP:20260421T181542Z
CREATED:20120523T140831Z
UID:ATEvent-19b793166c0337d1576a56515c294a69
LAST-MODIFIED:20220804T144627Z
SUMMARY:I servizi a sostegno dell'accesso al credito per le pmi: garanzie\, credito\, consulenza e contributi
DTSTART:20120605T083000Z
DTEND:20120605T110000Z
DESCRIPTION:Incontro informativo del ciclo " I martedì di Confidi"\, 
 con ospite la CCIAA di Milano che esporrà le proprie iniziative e sol
 uzioni per facilitare l'accesso al credito delle pmi.
LOCATION:- Assolombarda - Sala Falck (piano interrato) - Via Chiaravalle 8\, Milano
CONTACT:fin@assolombarda.it
URL:https://www.assolombarda.it/servizi/credito-finanza-e-incentivi/appuntamenti/cciaa-di-milano-e-confidi-province-lombarde-le-opportunita-congiunte-per-laccesso-al-credito
CLASS:PUBLIC
END:VEVENT
END:VCALENDAR
