BEGIN:VCALENDAR
PRODID:-//AT Content Types//AT Event//EN
VERSION:2.0
METHOD:PUBLISH
BEGIN:VEVENT
DTSTAMP:20260421T213957Z
CREATED:20161221T123924Z
UID:ATEvent-6bb00c70a76f472d90882f891d3cfd05
LAST-MODIFIED:20220804T144628Z
SUMMARY:Business Plan
DTSTART:20170419T080000Z
DTEND:20170419T110000Z
DESCRIPTION:L'incontro ha l’obiettivo di aiutare le piccole e medie 
 imprese a comprendere come devono costruire e raccontare il proprio bu
 siness\, utilizzando senza indugi e senza eccessi anche strumenti volo
 ntari che possano permettere di comunicare efficacemente\, concretamen
 te e semplicemente il valore che genereranno negli anni.
LOCATION:- Assolombarda Confindustria Milano Monza e Brianza - Sala Falck (piano interrato) - Via Chiaravalle 8\, Milano
CONTACT:fin@assolombarda.it
URL:https://www.assolombarda.it/servizi/credito-finanza-e-incentivi/appuntamenti/business-plan
CLASS:PUBLIC
END:VEVENT
END:VCALENDAR
