BEGIN:VCALENDAR
PRODID:-//AT Content Types//AT Event//EN
VERSION:2.0
METHOD:PUBLISH
BEGIN:VEVENT
DTSTAMP:20260421T181451Z
CREATED:20121204T101504Z
UID:ATEvent-866ab610efacb7706107d85350d4a27b
LAST-MODIFIED:20220804T144630Z
SUMMARY:Budget previsionale: effetti sulla cassa e benefici per la liquidità aziendale
DTSTART:20130313T090000Z
DTEND:20130313T120000Z
DESCRIPTION:Un approccio operativo alla predisposizione del budget e a
 lla corretta gestione dei flussi di cassa aziendali.
LOCATION:- Assolombarda - Sala Falck (piano interrato) - Via Chiaravalle 8\, Milano
CONTACT:fin@assolombarda.it
URL:https://www.assolombarda.it/servizi/credito-finanza-e-incentivi/appuntamenti/budget-previsionale-effetti-sulla-cassa-e-benefici-per-la-liquidita-aziendale
CLASS:PUBLIC
END:VEVENT
END:VCALENDAR
