BEGIN:VCALENDAR
PRODID:-//AT Content Types//AT Event//EN
VERSION:2.0
METHOD:PUBLISH
BEGIN:VEVENT
DTSTAMP:20260421T193542Z
CREATED:20131216T113934Z
UID:ATEvent-0e6249cda961e9d7d9bc2511837c6388
LAST-MODIFIED:20220804T144631Z
SUMMARY:Budget previsionale: effetti sulla cassa e benefici per la liquidità aziendale
DTSTART:20140305T090000Z
DTEND:20140305T120000Z
DESCRIPTION:Approccio operativo alla predisposizione del budget e alla
  corretta gestione dei flussi di cassa aziendali.
LOCATION:- Assolombarda - Sala Bracco (piano interrato) - Via Chiaravalle 8\, Milano
CONTACT:fin@assolombarda.it
URL:https://www.assolombarda.it/servizi/credito-finanza-e-incentivi/appuntamenti/budget-previsionale-effetti-sulla-cassa-e-benefici-per-la-liquidita-aziendale-1
CLASS:PUBLIC
END:VEVENT
END:VCALENDAR
