BEGIN:VCALENDAR
PRODID:-//AT Content Types//AT Event//EN
VERSION:2.0
METHOD:PUBLISH
BEGIN:VEVENT
DTSTAMP:20260421T193247Z
CREATED:20130611T102539Z
UID:ATEvent-7296fbdff03da942df39f1b75dd7e4b0
LAST-MODIFIED:20220804T144631Z
SUMMARY:Budget previsionale: effetti sulla cassa e benefici per la liquidità aziendale
DTSTART:20131025T080000Z
DTEND:20131025T110000Z
DESCRIPTION:Un approccio operativo alla predisposizione del budget e a
 lla corretta gestione dei flussi di cassa aziendali.
LOCATION:- Assolombarda - Sala Falck (piano interrato) - Via Chiaravalle 8\, Milano
CONTACT:fin@assolombarda.it
URL:https://www.assolombarda.it/servizi/credito-finanza-e-incentivi/appuntamenti/budget-previsionale-1
CLASS:PUBLIC
END:VEVENT
END:VCALENDAR
