BEGIN:VCALENDAR
PRODID:-//AT Content Types//AT Event//EN
VERSION:2.0
METHOD:PUBLISH
BEGIN:VEVENT
DTSTAMP:20260421T214042Z
CREATED:20160715T083307Z
UID:ATEvent-637dc305be2540d8a00d0207cc224326
LAST-MODIFIED:20220804T144623Z
SUMMARY:Bilancio per non addetti
DTSTART:20161012T080000Z
DTEND:20161012T110000Z
DESCRIPTION:L'incontro ha l’obiettivo di aiutare le piccole e medie 
 imprese a comprendere come devono far conoscere e raccontare il propri
 o business\, utilizzando senza indugi e senza eccessi anche strumenti 
 volontari\, che possano permettere di comunicare efficacemente\, concr
 etamente e semplicemente il proprio valore.
LOCATION:- Assolombarda Confindustria Milano Monza e Brianza - Sala Falck (piano interrato) - Via Chiaravalle 8\, Milano
CONTACT:fin@assolombarda.it
URL:https://www.assolombarda.it/servizi/credito-finanza-e-incentivi/appuntamenti/bilancio-per-non-addetti-5
CLASS:PUBLIC
END:VEVENT
END:VCALENDAR
