BEGIN:VCALENDAR
PRODID:-//AT Content Types//AT Event//EN
VERSION:2.0
METHOD:PUBLISH
BEGIN:VEVENT
DTSTAMP:20260421T205802Z
CREATED:20150720T105843Z
UID:ATEvent-cc92a03c3f82e381c5145657df9a9312
LAST-MODIFIED:20220804T144633Z
SUMMARY:Bilancio per non addetti
DTSTART:20151028T090000Z
DTEND:20151028T120000Z
DESCRIPTION:Inserito all'interno del ciclo di 5 incontri del corso gra
 tuito Executive Bancopass\, inziativa che anche il Ministero dello Svi
 luppo Economico ha deciso di sostenere rilasciando il proprio patrocin
 io\, l'incontro ha la finalità di fornire nozioni di base utili per l
 eggere e comprendere il bilancio\, i principali documenti che ne integ
 rano le informazioni ed effettuare le prime valutazioni sulla struttur
 a economico-finanziaria dell’impresa.
LOCATION:- Assolombarda Confindustria Milano Monza e Brianza - Sala Falck (piano interrato) - Via Chiaravalle 8\, Milano
CONTACT:fin@assolombarda.it
URL:https://www.assolombarda.it/servizi/credito-finanza-e-incentivi/appuntamenti/bilancio-per-non-addetti-3
CLASS:PUBLIC
END:VEVENT
END:VCALENDAR
