BEGIN:VCALENDAR
PRODID:-//AT Content Types//AT Event//EN
VERSION:2.0
METHOD:PUBLISH
BEGIN:VEVENT
DTSTAMP:20260421T205802Z
CREATED:20141218T162242Z
UID:ATEvent-8a7436ba1b385ec6710ab1fef8cfe0ef
LAST-MODIFIED:20220804T144632Z
SUMMARY:Bilancio per non addetti
DTSTART:20150514T080000Z
DTEND:20150514T110000Z
DESCRIPTION:L'incontro ha la finalità di fornire nozioni di base util
 i per leggere e comprendere il bilancio\, i principali documenti che n
 e integrano le informazioni ed effettuare le prime valutazioni sulla s
 truttura economico-finanziaria dell’impresa.
LOCATION:- Assolombarda - Sala Falck (piano interrato) - Via Chiaravalle 8\, Milano
CONTACT:fin@assolombarda.it
URL:https://www.assolombarda.it/servizi/credito-finanza-e-incentivi/appuntamenti/bilancio-per-non-addetti-2
CLASS:PUBLIC
END:VEVENT
END:VCALENDAR
