BEGIN:VCALENDAR
PRODID:-//AT Content Types//AT Event//EN
VERSION:2.0
METHOD:PUBLISH
BEGIN:VEVENT
DTSTAMP:20260421T205838Z
CREATED:20141218T155222Z
UID:ATEvent-d1adc32210ba1dcc51e6950aa115b068
LAST-MODIFIED:20220804T144632Z
SUMMARY:Bilancio per non addetti
DTSTART:20150312T090000Z
DTEND:20150312T120000Z
DESCRIPTION:L'incontro ha la finalità di fornire nozioni di base util
 i per leggere e comprendere il bilancio\, i principali documenti che n
 e integrano le informazioni ed effettuare le prime valutazioni sulla s
 truttura economico-finanziaria dell’impresa.
LOCATION:- Assolombarda - Sala Falck (piano interrato) - Via Chiaravalle 8\, Milano
CONTACT:fin@assolombarda.it
URL:https://www.assolombarda.it/servizi/credito-finanza-e-incentivi/appuntamenti/bilancio-per-non-addetti-1
CLASS:PUBLIC
END:VEVENT
END:VCALENDAR
