BEGIN:VCALENDAR
PRODID:-//AT Content Types//AT Event//EN
VERSION:2.0
METHOD:PUBLISH
BEGIN:VEVENT
DTSTAMP:20260421T201738Z
CREATED:20180619T075127Z
UID:ATEvent-0c72246235634099bbed6b45780f7a67
LAST-MODIFIED:20220804T144629Z
SUMMARY:Bank’s Tips: Il punto di vista della banca su Rating\, Centrale Rischi e Garanzie pubbliche e private
DTSTART:20181002T080000Z
DTEND:20181002T110000Z
DESCRIPTION:Sai cosa è la Centrale Rischi e quanto pesa sul tuo ratin
 g?\nLa Centrale Rischi Banca d'Italia è il nostro biglietto da visita
  da spendere nei confronti del sistema creditizio. La CR ha assunto un
  ruolo sempre più crescente e fondamentale nella gestione degli affid
 amenti (nuovi ed esistenti) da parte degli intermediari finanziari\, i
 nfluenzando fortemente il rating delle imprese e la loro possibilità 
 di accesso al credito.
LOCATION:Assolombarda Confindustria Milano\, Monza e Brianza\, Lodi - Sala 1 (piano terra) - Viale Francesco Petrarca 10\, Monza
URL:https://www.assolombarda.it/servizi/credito-finanza-e-incentivi/appuntamenti/banks-tips
CLASS:PUBLIC
END:VEVENT
END:VCALENDAR
