BEGIN:VCALENDAR
PRODID:-//AT Content Types//AT Event//EN
VERSION:2.0
METHOD:PUBLISH
BEGIN:VEVENT
DTSTAMP:20260421T201816Z
CREATED:20180619T090250Z
UID:ATEvent-408650d82b98440e857c91ba2006582a
LAST-MODIFIED:20220804T144629Z
SUMMARY:Bank’s Tips Elementi di giudizio e tempi di risposta: linee guida per chiedere (ed ottenere) un affidamento
DTSTART:20181016T080000Z
DTEND:20181016T110000Z
DESCRIPTION:Dai documenti necessari per presentare le proprie esigenze
 \, alla gestione del rigetto delle domande di finanziamento: presentat
 i al meglio quando fai una richiesta di credito.
LOCATION:Assolombarda Confindustria Milano\, Monza e Brianza\, Lodi - Sala 1 (piano terra) - Viale Francesco Petrarca 10\, Monza
URL:https://www.assolombarda.it/servizi/credito-finanza-e-incentivi/appuntamenti/banks-tips-secondo-appuntamento
CLASS:PUBLIC
END:VEVENT
END:VCALENDAR
