BEGIN:VCALENDAR
PRODID:-//AT Content Types//AT Event//EN
VERSION:2.0
METHOD:PUBLISH
BEGIN:VEVENT
DTSTAMP:20260421T214252Z
CREATED:20160715T074638Z
UID:ATEvent-ceb46763e8e646b1a57aee095fad688d
LAST-MODIFIED:20220804T144622Z
SUMMARY:Bail in e Crisi Bancarie e Fondo Atlante
DTSTART:20161123T090000Z
DTEND:20161123T120000Z
DESCRIPTION:Incontro informativo in collaborazione con BNL - Gruppo  B
 NP Paribas.
LOCATION:- Assolombarda Confindustria Milano Monza e Brianza - Sala Falck (piano interrato) - Via Chiaravalle 8\, Milano
CONTACT:fin@assolombarda.it
URL:https://www.assolombarda.it/servizi/credito-finanza-e-incentivi/appuntamenti/bail-in-e-crisi-bancarie-e-fondo-atlante
CLASS:PUBLIC
END:VEVENT
END:VCALENDAR
