BEGIN:VCALENDAR
PRODID:-//AT Content Types//AT Event//EN
VERSION:2.0
METHOD:PUBLISH
BEGIN:VEVENT
DTSTAMP:20260421T193331Z
CREATED:20131127T104413Z
UID:ATEvent-a54c429b44714ec8b7367030399a3627
LAST-MODIFIED:20220804T144627Z
SUMMARY:Aperitivo: Europa & Innovazione
DTSTART:20140212T160000Z
DTEND:20140212T180000Z
DESCRIPTION:Incontro con ospiti dall'Europa\, esperti nel campo degli 
 incentivi alla crescita e all’innovazione.
LOCATION:- Assolombarda - Foyer (piano interrato) - Via Pantano 9\, Milano
CONTACT:fin@assolombarda.it
URL:https://www.assolombarda.it/servizi/credito-finanza-e-incentivi/appuntamenti/aperitivo-con-leuropa-per-limprenditore
CLASS:PUBLIC
END:VEVENT
END:VCALENDAR
