BEGIN:VCALENDAR
PRODID:-//AT Content Types//AT Event//EN
VERSION:2.0
METHOD:PUBLISH
BEGIN:VEVENT
DTSTAMP:20260421T205945Z
CREATED:20150720T111147Z
UID:ATEvent-1c13d99951d5b75e5482d27ddaaaaa6e
LAST-MODIFIED:20220804T144633Z
SUMMARY:Analisi di bilancio
DTSTART:20151111T090000Z
DTEND:20151111T120000Z
DESCRIPTION:Inserito all'interno del ciclo di 5 incontri del corso gra
 tuito Executive Bancopass\, inziativa che anche il Ministero dello Svi
 luppo Economico ha deciso di sostenere rilasciando il proprio patrocin
 io\, l'incontro ha la finalità di fornire nozioni di base utili per c
 omprendere come partendo dai dati di bilancio è possibile trarre info
 rmazioni significative sulla realtà aziendale\, attraverso le correla
 zioni tra voci\, le principali riclassificazioni e l’analisi per ind
 ici.
LOCATION:- Assolombarda Confindustria Milano Monza e Brianza - Sala Falck (piano interrato) - Via Chiaravalle 8\, Milano
CONTACT:fin@assolombarda.it
URL:https://www.assolombarda.it/servizi/credito-finanza-e-incentivi/appuntamenti/analisi-di-bilancio
CLASS:PUBLIC
END:VEVENT
END:VCALENDAR
