BEGIN:VCALENDAR
PRODID:-//AT Content Types//AT Event//EN
VERSION:2.0
METHOD:PUBLISH
BEGIN:VEVENT
DTSTAMP:20260421T210043Z
CREATED:20140718T144714Z
UID:ATEvent-0604a84dbe336458d995ec11ac1d634f
LAST-MODIFIED:20220804T144632Z
SUMMARY:Analisi di bilancio per non addetti
DTSTART:20141105T090000Z
DTEND:20141105T120000Z
DESCRIPTION:L'incontro ha la finalità di fornire nozioni di base util
 i per leggere e comprendere il bilancio\, i principali documenti che n
 e integrano le informazioni ed effettuare le prime valutazioni sulla s
 truttura economico-finanziaria dell’impresa.
LOCATION:- Assolombarda - Sala Falck (piano interrato) - Via Chiaravalle 8\, Milano
CONTACT:fin@assolombarda.it
URL:https://www.assolombarda.it/servizi/credito-finanza-e-incentivi/appuntamenti/analisi-di-bilancio-per-non-addetti-1
CLASS:PUBLIC
END:VEVENT
END:VCALENDAR
