BEGIN:VCALENDAR
PRODID:-//AT Content Types//AT Event//EN
VERSION:2.0
METHOD:PUBLISH
BEGIN:VEVENT
DTSTAMP:20260421T214114Z
CREATED:20160715T091513Z
UID:ATEvent-f953e72124b1411ca279925e8b1995e3
LAST-MODIFIED:20220804T144623Z
SUMMARY:Analisi di bilancio
DTSTART:20161019T080000Z
DTEND:20161019T110000Z
DESCRIPTION:L'incontro ha l’obiettivo di aiutare le piccole e medie 
 imprese a comprendere come devono far conoscere e raccontare il propri
 o business\, utilizzando senza indugi e senza eccessi anche strumenti 
 volontari\, che possano permettere di comunicare efficacemente\, concr
 etamente e semplicemente il proprio valore.
LOCATION:- Assolombarda Confindustria Milano Monza e Brianza - Sala Giunta (I piano) - Viale Francesco Petrarca 10\, Monza
CONTACT:fin@assolombarda.it
URL:https://www.assolombarda.it/servizi/credito-finanza-e-incentivi/appuntamenti/analisi-di-bilancio-2
CLASS:PUBLIC
END:VEVENT
END:VCALENDAR
