BEGIN:VCALENDAR
PRODID:-//AT Content Types//AT Event//EN
VERSION:2.0
METHOD:PUBLISH
BEGIN:VEVENT
DTSTAMP:20260421T214112Z
CREATED:20151214T094104Z
UID:ATEvent-e52a35b03aa62e35bc719190f8a7b24b
LAST-MODIFIED:20220804T144634Z
SUMMARY:Analisi di bilancio
DTSTART:20160324T133000Z
DTEND:20160324T163000Z
DESCRIPTION:L'incontro ha l’obiettivo di aiutare le piccole e medie 
 imprese a comprendere come devono far conoscere e raccontare il propri
 o business\, utilizzando senza indugi e senza eccessi anche strumenti 
 volontari\, che possano permettere di comunicare efficacemente\, concr
 etamente e semplicemente il proprio valore.
LOCATION:- Assolombarda Confindustria Milano Monza e Brianza - Sala Erba (piano interrato) - Via Pantano 9\, Milano
CONTACT:fin@assolombarda.it
URL:https://www.assolombarda.it/servizi/credito-finanza-e-incentivi/appuntamenti/analisi-di-bilancio-1
CLASS:PUBLIC
END:VEVENT
END:VCALENDAR
