BEGIN:VCALENDAR
PRODID:-//AT Content Types//AT Event//EN
VERSION:2.0
METHOD:PUBLISH
BEGIN:VEVENT
DTSTAMP:20260421T213933Z
CREATED:20170731T082406Z
UID:ATEvent-2dcd03b1cd0445749771fbae6992e0db
LAST-MODIFIED:20220804T144625Z
SUMMARY:Analisi Centrale Rischi
DTSTART:20170913T080000Z
DTEND:20170913T110000Z
DESCRIPTION:Analizzare in dettaglio informazioni\, contenuti e variabi
 li della centrale dei rischi senza diventare degli esperti del settore
 . Saper leggere le informazioni in essa contenute è molto utile per p
 oter eventualmente influenzare i propri comportamenti e sapere che ad 
 azione corrisponde quasi sempre reazione.
LOCATION:- Assolombarda Confindustria Milano Monza e Brianza - Sala Falck (piano interrato) - Via Chiaravalle 8\, Milano
CONTACT:fin@assolombarda.it
URL:https://www.assolombarda.it/servizi/credito-finanza-e-incentivi/appuntamenti/analisi-centrale-rischi
CLASS:PUBLIC
END:VEVENT
END:VCALENDAR
