BEGIN:VCALENDAR
PRODID:-//AT Content Types//AT Event//EN
VERSION:2.0
METHOD:PUBLISH
BEGIN:VEVENT
DTSTAMP:20260421T214319Z
CREATED:20170421T125051Z
UID:ATEvent-4096607fc6df43d785ff0a91d7001631
LAST-MODIFIED:20220804T144626Z
SUMMARY:Ambiente e Energia: dal progetto al mercato con i contributi Europei.
DTSTART:20170517T080000Z
DTEND:20170517T110000Z
DESCRIPTION:Il nuovo “Life 2017” e i bandi Energia di “Horizon 2
 020”\, due opportunità a sostegno dell’innovazione diretta al mer
 cato. Novità\, caratteristiche e operatività dei due strumenti di fi
 nanziamento diretto europeo a sostegno di soluzioni innovative negli a
 mbiti Ambiente ed Energia.
LOCATION:- Assolombarda - Sala Falck (piano interrato) - Via Chiaravalle 8\, Milano
URL:https://www.assolombarda.it/servizi/credito-finanza-e-incentivi/appuntamenti/ambiente-e-energia-dal-progetto-al-mercato-con-i-contributi-europei
CLASS:PUBLIC
END:VEVENT
END:VCALENDAR
