BEGIN:VCALENDAR
PRODID:-//AT Content Types//AT Event//EN
VERSION:2.0
METHOD:PUBLISH
BEGIN:VEVENT
DTSTAMP:20260421T214651Z
CREATED:20170620T151609Z
UID:ATEvent-b3c79a03a9c448f484099b294396c2d2
LAST-MODIFIED:20220804T144626Z
SUMMARY:"Al Via" - Un bando\, tre agevolazioni\, 300 milioni per lo sviluppo aziendale
DTSTART:20170705T071500Z
DTEND:20170705T090000Z
DESCRIPTION:Regione Lombardia\, concedendo un mix di fondo perduto\, f
 inanziamento agevolato e garanzia regionale gratuita\, sostiene le PMI
  che intendono acquistare immobili produttivi e macchinari.
LOCATION:- Assolombarda - Sala Falck (piano interrato) - Via Chiaravalle 8\, Milano
CONTACT:fin@assolombarda.it
URL:https://www.assolombarda.it/servizi/credito-finanza-e-incentivi/appuntamenti/al-via-un-bando-tre-agevolazioni-300-milioni-per-lo-sviluppo-aziendale
CLASS:PUBLIC
END:VEVENT
END:VCALENDAR
