BEGIN:VCALENDAR
PRODID:-//AT Content Types//AT Event//EN
VERSION:2.0
METHOD:PUBLISH
BEGIN:VEVENT
DTSTAMP:20260421T214411Z
CREATED:20180503T091357Z
UID:ATEvent-5388ede175c9474fade78b0a6e67c0b0
LAST-MODIFIED:20220804T144626Z
SUMMARY:Agevolazioni creditizie per l’internazionalizzazione delle PMI
DTSTART:20180529T083000Z
DTEND:20180529T103000Z
DESCRIPTION:Durante l'incontro sarà fornita una panoramica sui miglio
 ri incentivi utilizzabili\, in particolare per fiere e missioni all'es
 tero\, e i servizi di SACE - SIMEST e di Confidi Systema! dedicati all
 e PMI italiane.
LOCATION:- Assolombarda - Sala Falck (piano interrato) - Via Chiaravalle 8\, Milano
URL:https://www.assolombarda.it/servizi/credito-finanza-e-incentivi/appuntamenti/agevolazioni-creditizie-per-l2019internazionalizzazione-delle-pmi
CLASS:PUBLIC
END:VEVENT
END:VCALENDAR
