BEGIN:VCALENDAR
PRODID:-//AT Content Types//AT Event//EN
VERSION:2.0
METHOD:PUBLISH
BEGIN:VEVENT
DTSTAMP:20260421T181317Z
CREATED:20121204T100925Z
UID:ATEvent-ec673212fec814dbbddd1a627102cd97
LAST-MODIFIED:20220804T144630Z
SUMMARY:Accesso al credito: guida all'offerta per le PMI
DTSTART:20130219T090000Z
DTEND:20130219T120000Z
DESCRIPTION:L’incontro in collaborazione con Confidi Scpa e Banco Po
 polare vuole aiutare le imprese a comprendere come gestire la banca e 
 il credito\, senza perdere di vista le agevolazioni finanziarie locali
  e gli strumenti più idonei per mitigare il proprio profilo di rischi
 o.
LOCATION:- Assolombarda - Sala Bracco (piano interrato) - Via Chiaravalle 8\, Milano
CONTACT:fin@assolombarda.it
URL:https://www.assolombarda.it/servizi/credito-finanza-e-incentivi/appuntamenti/accesso-al-credito-guida-allofferta-per-le-pmi
CLASS:PUBLIC
END:VEVENT
END:VCALENDAR
