BEGIN:VCALENDAR
PRODID:-//AT Content Types//AT Event//EN
VERSION:2.0
METHOD:PUBLISH
BEGIN:VEVENT
DTSTAMP:20260421T181317Z
CREATED:20120727T131619Z
UID:ATEvent-d5e69dd36202c8132afb040787f12286
LAST-MODIFIED:20220804T144630Z
SUMMARY:Accesso al credito e gestione dei rischi: un dialogo tra banca e impresa
DTSTART:20120926T080000Z
DTEND:20120926T110000Z
DESCRIPTION:L’incontro proposto punta ad avviare un dialogo tra banc
 a e impresa sulle opportunità e sui servizi che il mondo creditizio p
 uò offrire per accompagnare le aziende nelle nuove sfide imposte da u
 n mercato sempre più complesso.
LOCATION:- Assolombarda - Sala Falck (piano interrato) - Via Chiaravalle 8\, Milano
CONTACT:fin@assolombarda.it
URL:https://www.assolombarda.it/servizi/credito-finanza-e-incentivi/appuntamenti/accesso-al-credito-e-gestione-dei-rischi-un-dialogo-tra-banca-e-impresa
CLASS:PUBLIC
END:VEVENT
END:VCALENDAR
