BEGIN:VCALENDAR
PRODID:-//AT Content Types//AT Event//EN
VERSION:2.0
METHOD:PUBLISH
BEGIN:VEVENT
DTSTAMP:20260421T173839Z
CREATED:20210908T145706Z
UID:ATEvent-531e0cf036de402cb52173583f69a9ac
LAST-MODIFIED:20220804T144624Z
SUMMARY:L’accesso al credito dopo la pandemia
DTSTART:20211005T123000Z
DTEND:20211005T140000Z
DESCRIPTION:Come cambia la bancabilità delle imprese alla luce della 
 nuova regolamentazione? Ne parleremo durante il webinar\, illustrando 
 anche strumenti e servizi a supporto delle imprese.
LOCATION:Webinar
URL:https://www.assolombarda.it/servizi/credito-finanza-e-incentivi/appuntamenti/accesso-al-credito-dopo-la-pandemia
CLASS:PUBLIC
END:VEVENT
END:VCALENDAR
