BEGIN:VCALENDAR
PRODID:-//AT Content Types//AT Event//EN
VERSION:2.0
METHOD:PUBLISH
BEGIN:VEVENT
DTSTAMP:20260421T202551Z
CREATED:20190909T105908Z
UID:ATEvent-1e0da915b5df4d0b86cf3f59ca70e85d
LAST-MODIFIED:20220804T144620Z
SUMMARY:Tieni monitorata la tua Centrale Rischi?
DTSTART:20191001T123000Z
DTEND:20191001T153000Z
DESCRIPTION:La Centrale Rischi Banca d'Italia è il nostro biglietto d
 a visita da spendere nei confronti del sistema creditizio. La CR ha as
 sunto un ruolo sempre più crescente e fondamentale nella gestione deg
 li affidamenti (nuovi ed esistenti) da parte degli intermediari finanz
 iari\, influenzando fortemente il rating delle imprese e la loro possi
 bilità di accesso al credito.
LOCATION:- Assolombarda - Sala Bracco (piano interrato) - Via Chiaravalle 8\, Milano
URL:https://www.assolombarda.it/servizi/credito-finanza-e-incentivi/appuntamenti/Tieni-monitorata-la-tua-CR
CLASS:PUBLIC
END:VEVENT
END:VCALENDAR
