BEGIN:VCALENDAR
PRODID:-//AT Content Types//AT Event//EN
VERSION:2.0
METHOD:PUBLISH
BEGIN:VEVENT
DTSTAMP:20260421T190924Z
CREATED:20190116T155336Z
UID:ATEvent-9997e71365c541c3bb0543542d22fec5
LAST-MODIFIED:20220804T144628Z
SUMMARY:Le coperture assicurative del rischio di interruzione attività: tra opportunità e necessità
DTSTART:20190410T074500Z
DTEND:20190410T103000Z
DESCRIPTION:L'incontro informativo\, in collaborazione con l'Associazi
 one Italiana Broker di assicurazione e riassicurazione (AIBA)\, vuole 
 fare il punto sui rischi derivanti da interruzione attività e quali c
 operture assicurative attivare per evitare che il sinistro metta a rep
 entaglio la continuità aziendale.
LOCATION:- Assolombarda - Sala Bracco (piano interrato) - Via Chiaravalle 8\, Milano
URL:https://www.assolombarda.it/servizi/credito-finanza-e-incentivi/appuntamenti/Le-coperture-assicurative-del-rischio
CLASS:PUBLIC
END:VEVENT
END:VCALENDAR
