BEGIN:VCALENDAR
PRODID:-//AT Content Types//AT Event//EN
VERSION:2.0
METHOD:PUBLISH
BEGIN:VEVENT
DTSTAMP:20260421T202040Z
CREATED:20181203T134721Z
UID:ATEvent-48b9059cd7034a3da2142eaf65aa6ae0
LAST-MODIFIED:20220804T144626Z
SUMMARY:Incontro presidio di Monza - Investimenti produttivi: un mix di incentivi per le PMI
DTSTART:20190313T100000Z
DTEND:20190313T120000Z
DESCRIPTION:Nuove misure regionali e vecchi strumenti rifinanziati per
  sostenere lo sviluppo delle PMI lombarde.
LOCATION:Assolombarda Confindustria Milano\, Monza e Brianza\, Lodi - Sala 1 (piano terra) - Viale Francesco Petrarca 10\, Monza
URL:https://www.assolombarda.it/servizi/credito-finanza-e-incentivi/appuntamenti/Investimenti-produttivi-un-mix-di-incentivi-per-le-PMI
CLASS:PUBLIC
END:VEVENT
END:VCALENDAR
