BEGIN:VCALENDAR
PRODID:-//AT Content Types//AT Event//EN
VERSION:2.0
METHOD:PUBLISH
BEGIN:VEVENT
DTSTAMP:20260421T175123Z
CREATED:20210115T101831Z
UID:ATEvent-360ea2e8c6ee43fb9e08ce55b2319ad7
LAST-MODIFIED:20220804T144629Z
SUMMARY:Finanza per la ripresa: il punto sulle garanzie di SACE
DTSTART:20210202T093000Z
DTEND:20210202T110000Z
DESCRIPTION:La Legge di Bilancio proroga al 30 giugno 2021 la Garanzia
  Italia di SACE ed estende la sua copertura sulle emissioni obbligazio
 narie.
LOCATION:Incontro online
URL:https://www.assolombarda.it/servizi/credito-finanza-e-incentivi/appuntamenti/Finanza-per-la-ripresa-il-punto-sulle-garanzie-di-SACE
CLASS:PUBLIC
END:VEVENT
END:VCALENDAR
