BEGIN:VCALENDAR
PRODID:-//AT Content Types//AT Event//EN
VERSION:2.0
METHOD:PUBLISH
BEGIN:VEVENT
DTSTAMP:20260421T193517Z
CREATED:20131216T114822Z
UID:ATEvent-bea550cda51b5e9b6fc399f961636ac4
LAST-MODIFIED:20220804T144632Z
SUMMARY:Crowdfunding per fare innovazione: esperienze a confronto
DTSTART:20140410T120000Z
DTEND:20140410T143000Z
DESCRIPTION:Il crowdfunding può essere una fonte alternativa per repe
 rire nuovi capitali? Può supportare crescita e innovazione?
LOCATION:- Assolombarda - Auditorium Gio Ponti (piano interrato) - Via Pantano 9\, Milano
CONTACT:fin@assolombarda.it
URL:https://www.assolombarda.it/servizi/credito-finanza-e-incentivi/appuntamenti/Crowdfunding-per-fare-innovazione-esperienze-a-confronto
CLASS:PUBLIC
END:VEVENT
END:VCALENDAR
