BEGIN:VCALENDAR
PRODID:-//AT Content Types//AT Event//EN
VERSION:2.0
METHOD:PUBLISH
BEGIN:VEVENT
DTSTAMP:20260421T213837Z
CREATED:20161221T120442Z
UID:ATEvent-8c8bec1374d54b209409abb056567651
LAST-MODIFIED:20220804T144624Z
SUMMARY:Colazione con l'esperto: Centrale Rischi
DTSTART:20170308T090000Z
DTEND:20170308T120000Z
DESCRIPTION:Analizzare in dettaglio informazioni\, contenuti e variabi
 li della centrale dei rischi senza diventare degli esperti del settore
 . Saper leggere le informazioni in essa contenute è molto utile per p
 oter eventualmente influenzare i propri comportamenti e sapere che ad 
 azione corrisponde quasi sempre reazione.
LOCATION:- Assolombarda - Sala Meregalli (piano interrato) - Via Pantano 9\, Milano
CONTACT:fin@assolombarda.it
URL:https://www.assolombarda.it/servizi/credito-finanza-e-incentivi/appuntamenti/Colazione-con-esperto-Centrale-Rischi
CLASS:PUBLIC
END:VEVENT
END:VCALENDAR
