BEGIN:VCALENDAR
PRODID:-//AT Content Types//AT Event//EN
VERSION:2.0
METHOD:PUBLISH
BEGIN:VEVENT
DTSTAMP:20260421T203809Z
CREATED:20171011T110156Z
UID:ATEvent-8a9f9838de06447bacc8d423d4df7755
LAST-MODIFIED:20220804T144625Z
SUMMARY:5 webinar Osserva la tua impresa - La fase del rilancio: pianificazione strategica e finanza alternativa
DTSTART:20171130T093000Z
DTEND:20171130T104500Z
DESCRIPTION:Ultimo momento del ciclo di 5 webinar gratuiti rivolti all
 'imprenditore e al management aziendale che la Piccola Industria di As
 solombarda Confindustria Milano Monza e Brianza organizza per illustra
 re quali sono gli indicatori economico-patrimoniali da monitorare per 
 prevenire una situazione di difficoltà nonchè analizzare i processi\
 , attori e strumenti per la gestione delle criticità finanziarie e ge
 stionali dell'impresa.
LOCATION:Webinar
CONTACT:fin@assolombarda.it
URL:https://www.assolombarda.it/servizi/credito-finanza-e-incentivi/appuntamenti/5-webinar-osserva-la-tua-impresa-la-fase-del-rilancio-pianificazione-strategica-e-finanza-alternativa
CLASS:PUBLIC
END:VEVENT
END:VCALENDAR
