BEGIN:VCALENDAR
PRODID:-//AT Content Types//AT Event//EN
VERSION:2.0
METHOD:PUBLISH
BEGIN:VEVENT
DTSTAMP:20260421T214723Z
CREATED:20171009T140323Z
UID:ATEvent-9f32a5a8056942c2a691442c350c126c
LAST-MODIFIED:20220804T144626Z
SUMMARY:23 ottobre 2017 - Monza: 450 milioni di euro per macchinari\, sviluppo aziendale\, digitalizzazione e internazionalizzazione.
DTSTART:20171023T093000Z
DTEND:20171023T140000Z
DESCRIPTION:Le risorse a disposizione per supportare gli investimenti 
 per lo sviluppo aziendale sono ancora sufficienti ma non infinite.
LOCATION:Assolombarda Confindustria Milano Monza e Brianza - Presidio di Monza\, Viale Francesco Petrarca 10\, Monza - Sala Congressi
CONTACT:fin@assolombarda.it
URL:https://www.assolombarda.it/servizi/credito-finanza-e-incentivi/appuntamenti/450-milioni-di-euro-per-macchinari-sviluppo-aziendale-digitalizzazione-e-internazionalizzazione
CLASS:PUBLIC
END:VEVENT
END:VCALENDAR
