BEGIN:VCALENDAR
PRODID:-//AT Content Types//AT Event//EN
VERSION:2.0
METHOD:PUBLISH
BEGIN:VEVENT
DTSTAMP:20260421T214621Z
CREATED:20171011T105135Z
UID:ATEvent-0ce34c2ece0343f4a745e63d47924deb
LAST-MODIFIED:20220804T144625Z
SUMMARY:4 webinar Osserva la tua impresa - Gestire i rapporti con banche\, fornitori ed erario in situazioni di difficoltà
DTSTART:20171123T093000Z
DTEND:20171123T104500Z
DESCRIPTION:Quarto momento del ciclo di 5 webinar gratuiti rivolti all
 'imprenditore e al management aziendale che la Piccola Industria di As
 solombarda Confindustria Milano Monza e Brianza organizza per illustra
 re quali sono gli indicatori economico-patrimoniali da monitorare per 
 prevenire una situazione di difficoltà nonchè analizzare i processi\
 , attori e strumenti per la gestione delle criticità finanziarie e ge
 stionali dell'impresa.
LOCATION:Webinar
CONTACT:fin@assolombarda.it
URL:https://www.assolombarda.it/servizi/credito-finanza-e-incentivi/appuntamenti/4-webinar-osserva-la-tua-imrpesa-gestire-i-rapporti-con-banche-fornitori-ed-erario-nelle-procedure-concorsuali
CLASS:PUBLIC
END:VEVENT
END:VCALENDAR
