BEGIN:VCALENDAR
PRODID:-//AT Content Types//AT Event//EN
VERSION:2.0
METHOD:PUBLISH
BEGIN:VEVENT
DTSTAMP:20260421T185654Z
CREATED:20190524T132259Z
UID:ATEvent-ce68aa2ede264fc98c73d229fb5988d7
LAST-MODIFIED:20220804T144627Z
SUMMARY:1° Webinar Bancopass
DTSTART:20191007T090000Z
DTEND:20191007T092000Z
DESCRIPTION:Conoscere la Centrale Rischi e il Fondo di Garanzia attrav
 erso la piattaforma Bancopass
LOCATION:- Assolombarda - Sala Bianchi (4° piano) - Via Pantano 9\, Milano
URL:https://www.assolombarda.it/servizi/credito-finanza-e-incentivi/appuntamenti/3deg-webinar-bancopass
CLASS:PUBLIC
END:VEVENT
END:VCALENDAR
