BEGIN:VCALENDAR
PRODID:-//AT Content Types//AT Event//EN
VERSION:2.0
METHOD:PUBLISH
BEGIN:VEVENT
DTSTAMP:20260421T214423Z
CREATED:20171011T104259Z
UID:ATEvent-0ac03ee61d7b43d198e6c22bcc35f0c1
LAST-MODIFIED:20220804T144625Z
SUMMARY:3 webinar Osserva la tua impresa - Le procedure di risanamento aziendale: caratteristiche\, attori e tempistiche
DTSTART:20171116T093000Z
DTEND:20171116T104500Z
DESCRIPTION:Terzo momento del ciclo di 5 webinar gratuiti rivolti all'
 imprenditore e al management aziendale che la Piccola Industria di Ass
 olombarda Confindustria Milano Monza e Brianza organizza per illustrar
 e quali sono gli indicatori economico-patrimoniali da monitorare per p
 revenire una situazione di difficoltà nonchè analizzare i processi\,
  attori e strumenti per la gestione delle criticità finanziarie e ges
 tionali dell'impresa.
LOCATION:Webinar
CONTACT:fin@assolombarda.it
URL:https://www.assolombarda.it/servizi/credito-finanza-e-incentivi/appuntamenti/3-webinar-osserva-la-tua-impresa-le-procedure-di-risanamento-aziendale-caratteristiche-attori-e-tempestiche
CLASS:PUBLIC
END:VEVENT
END:VCALENDAR
