BEGIN:VCALENDAR
PRODID:-//AT Content Types//AT Event//EN
VERSION:2.0
METHOD:PUBLISH
BEGIN:VEVENT
DTSTAMP:20260421T214652Z
CREATED:20171011T103510Z
UID:ATEvent-b92d93cbf27e4614985378f8ca542bcd
LAST-MODIFIED:20220804T144625Z
SUMMARY:2 webinar Osserva la tua impresa - Da dove partire? Analisi preliminare\, strategie e priorità industriali e finanziarie
DTSTART:20171109T093000Z
DTEND:20171109T104500Z
DESCRIPTION:Secondo momento del ciclo di 5 webinar gratuiti rivolti al
 l'imprenditore e al management aziendale che la Piccola Industria di A
 ssolombarda Confindustria Milano Monza e Brianza organizza per illustr
 are quali sono gli indicatori economico-patrimoniali da monitorare per
  prevenire una situazione di difficoltà nonchè analizzare i processi
 \, attori e strumenti per la gestione delle criticità finanziarie e g
 estionali dell'impresa.
LOCATION:Webinar
CONTACT:fin@assolombarda.it
URL:https://www.assolombarda.it/servizi/credito-finanza-e-incentivi/appuntamenti/2-webinar-osserva-la-tua-impresa-da-dove-partire-analisi-preliminare-strategie-e-priorita-industriali-e-finanziarie
CLASS:PUBLIC
END:VEVENT
END:VCALENDAR
