BEGIN:VCALENDAR
PRODID:-//AT Content Types//AT Event//EN
VERSION:2.0
METHOD:PUBLISH
BEGIN:VEVENT
DTSTAMP:20260421T214453Z
CREATED:20171011T100137Z
UID:ATEvent-df4c5605730148b6847b359f5e87b5b7
LAST-MODIFIED:20220804T144625Z
SUMMARY:1 webinar Osserva la tua impresa - I segnali di allarme nel bilancio di impresa
DTSTART:20171026T083000Z
DTEND:20171026T094500Z
DESCRIPTION:Primo momento del ciclo di 5 webinar gratuiti rivolti all'
 imprenditore e al management aziendale che la Piccola Industria di Ass
 olombarda Confindustria Milano Monza e Brianza organizza per illustrar
 e quali sono gli indicatori economico-patrimoniali da monitorare per p
 revenire una situazione di difficoltà nonchè analizzare i processi\,
  attori e strumenti per la gestione delle criticità finanziarie e ges
 tionali dell'impresa.
LOCATION:Webinar
CONTACT:fin@assolombarda.it
URL:https://www.assolombarda.it/servizi/credito-finanza-e-incentivi/appuntamenti/1-webinar-osserva-la-tua-impresa-i-segnali-di-allarme-nel-bilancio-di-impresa
CLASS:PUBLIC
END:VEVENT
END:VCALENDAR
