BEGIN:VCALENDAR
PRODID:-//AT Content Types//AT Event//EN
VERSION:2.0
METHOD:PUBLISH
BEGIN:VEVENT
DTSTAMP:20260422T140652Z
CREATED:20210913T090426Z
UID:ATEvent-0fdb0f476982404cbf256d2668bb727f
LAST-MODIFIED:20210915T134028Z
SUMMARY:Da sempre accanto alle imprese: scopri i servizi per cogliere le opportunità della digitalizzazione nel processo di marketing
DTSTART:20210921T070000Z
DTEND:20210921T073000Z
LOCATION:Assolombarda webinar online
CONTACT:svil@assolombarda.it
URL:https://www.assolombarda.it/servizi/catena-del-valore/da-sempre-accanto-alle-imprese-scopri-i-servizi-per-cogliere-le-opportunita-della-digitalizzazione-nel-processo-di-marketing
CLASS:PUBLIC
END:VEVENT
END:VCALENDAR
