BEGIN:VCALENDAR
PRODID:-//AT Content Types//AT Event//EN
VERSION:2.0
METHOD:PUBLISH
BEGIN:VEVENT
DTSTAMP:20260419T163137Z
CREATED:20140327T180132Z
UID:ATEvent-09da1e8099b4d13c797a9f0145581630
LAST-MODIFIED:20140327T180231Z
SUMMARY:Rifiuti - Diritti d'iscrizione all'Albo Gestori Ambientali
DTSTART:20140430T160000Z
DTEND:20140430T160000Z
CATEGORIES:Ambiente, Ambiente.Gestione rifiuti, scadenze
CLASS:PUBLIC
END:VEVENT
END:VCALENDAR
