BEGIN:VCALENDAR
PRODID:-//AT Content Types//AT Event//EN
VERSION:2.0
METHOD:PUBLISH
BEGIN:VEVENT
DTSTAMP:20260421T231458Z
CREATED:20260401T160215Z
UID:ATEvent-d99c7cff199747fdbaf381d64d02a815
LAST-MODIFIED:20260401T160225Z
SUMMARY:PRTR 2026: comunicazione dei dati ambientali 2025
DTSTART:20260429T220500Z
DTEND:20260430T215500Z
CATEGORIES:Ambiente.Autorizzazione ambientale: AIA – AUA, scadenze, Ambiente, Booklet territorio
CLASS:PUBLIC
END:VEVENT
END:VCALENDAR
