BEGIN:VCALENDAR
PRODID:-//AT Content Types//AT Event//EN
VERSION:2.0
METHOD:PUBLISH
BEGIN:VEVENT
DTSTAMP:20260421T092906Z
CREATED:20230317T165054Z
UID:ATEvent-e385512d179b4ba6bad72a021488f8ff
LAST-MODIFIED:20230317T165121Z
SUMMARY:Presentazione bilancio di massa dei COV
DTSTART:20230330T220000Z
DTEND:20230331T215500Z
CATEGORIES:Ambiente.Altre autorizzazioni/concessioni, Ambiente.Autorizzazione ambientale: AIA – AUA, Ambiente.Emissioni in atmosfera, Ambiente, scadenze
CONTACT:amb@assolombarda.it
CLASS:PUBLIC
END:VEVENT
END:VCALENDAR
