BEGIN:VCALENDAR
PRODID:-//AT Content Types//AT Event//EN
VERSION:2.0
METHOD:PUBLISH
BEGIN:VEVENT
DTSTAMP:20260421T052407Z
CREATED:20230317T154629Z
UID:ATEvent-d9ebe2067b86476ead73d08adc4c1fc5
LAST-MODIFIED:20230317T154827Z
SUMMARY:Pagamento canoni demaniali 2023 per uso di acqua pubblica
DTSTART:20230629T220000Z
DTEND:20230630T215500Z
CATEGORIES:Ambiente, Ambiente.Gestione della risorsa idrica, scadenze
CONTACT:amb@assolombarda.it
CLASS:PUBLIC
END:VEVENT
END:VCALENDAR
