BEGIN:VCALENDAR
PRODID:-//AT Content Types//AT Event//EN
VERSION:2.0
METHOD:PUBLISH
BEGIN:VEVENT
DTSTAMP:20260421T235426Z
CREATED:20260401T140126Z
UID:ATEvent-7efff51eec304337ac9456baca7a257a
LAST-MODIFIED:20260401T140458Z
SUMMARY:O.R.SO - Comunicazione dei dati 2025 per i gestori
DTSTART:20260429T220500Z
DTEND:20260430T215500Z
CATEGORIES:Ambiente, Ambiente.Gestione rifiuti, scadenze
CLASS:PUBLIC
END:VEVENT
END:VCALENDAR
