BEGIN:VCALENDAR
PRODID:-//AT Content Types//AT Event//EN
VERSION:2.0
METHOD:PUBLISH
BEGIN:VEVENT
DTSTAMP:20260422T195813Z
CREATED:20260402T135105Z
UID:ATEvent-5a8a09ad36824a25a22b0a3485f4a410
LAST-MODIFIED:20260402T135118Z
SUMMARY:Impianti in AIA: AIDA e Piano Gestione Solventi
DTSTART:20260429T220500Z
DTEND:20260430T215500Z
CATEGORIES:Ambiente.Autorizzazione ambientale: AIA – AUA, Ambiente, scadenze
CLASS:PUBLIC
END:VEVENT
END:VCALENDAR
