BEGIN:VCALENDAR
PRODID:-//AT Content Types//AT Event//EN
VERSION:2.0
METHOD:PUBLISH
BEGIN:VEVENT
DTSTAMP:20260419T205629Z
CREATED:20260330T150926Z
UID:ATEvent-924107eb690143f88daaf8e73057a42a
LAST-MODIFIED:20260330T151041Z
SUMMARY:Diritti annuali di iscrizione per operazioni di recupero rifiuti in semplificata
DTSTART:20260429T220000Z
DTEND:20260430T215500Z
CATEGORIES:Ambiente.Autorizzazione ambientale: AIA – AUA, Ambiente, Ambiente.Gestione rifiuti, scadenze
CLASS:PUBLIC
END:VEVENT
END:VCALENDAR
