BEGIN:VCALENDAR
PRODID:-//AT Content Types//AT Event//EN
VERSION:2.0
METHOD:PUBLISH
BEGIN:VEVENT
DTSTAMP:20260421T035435Z
CREATED:20260330T142753Z
UID:ATEvent-efb3e8ad5a42442cb590a047326bdcb4
LAST-MODIFIED:20260330T142815Z
SUMMARY:Albo Nazionale Gestori Ambientali - Pagamento diritto d'iscrizione annuale
DTSTART:20260429T220000Z
DTEND:20260430T215500Z
CATEGORIES:Ambiente, Ambiente.Gestione rifiuti, scadenze
CLASS:PUBLIC
END:VEVENT
END:VCALENDAR
