BEGIN:VCALENDAR
PRODID:-//AT Content Types//AT Event//EN
VERSION:2.0
METHOD:PUBLISH
BEGIN:VEVENT
DTSTAMP:20260420T024745Z
CREATED:20260310T075349Z
UID:ATEvent-07df5e7d4aef4dbb90c3833ee50bf61c
LAST-MODIFIED:20260310T075400Z
SUMMARY:RENTRI: termine versamento contributo annuale
DTSTART:20260429T220500Z
DTEND:20260430T215500Z
CATEGORIES:Ambiente, Ambiente.Gestione rifiuti, scadenze
CLASS:PUBLIC
END:VEVENT
END:VCALENDAR
