BEGIN:VCALENDAR
PRODID:-//AT Content Types//AT Event//EN
VERSION:2.0
METHOD:PUBLISH
BEGIN:VEVENT
DTSTAMP:20260425T025801Z
CREATED:20210212T094237Z
UID:ATEvent-7189d9dbf9a847febae7a92f652ff167
LAST-MODIFIED:20210212T094419Z
SUMMARY:Conai - Invio modulo 6.5\, 6.6\, 6.6bis - Richiesta di rimborso per esportazioni anno precedente
DTSTART:20210227T230000Z
DTEND:20210228T225500Z
CATEGORIES:scadenze, Ambiente, Ambiente.CONAI
CLASS:PUBLIC
END:VEVENT
END:VCALENDAR
