BEGIN:VCALENDAR
PRODID:-//AT Content Types//AT Event//EN
VERSION:2.0
METHOD:PUBLISH
BEGIN:VEVENT
DTSTAMP:20260421T084539Z
CREATED:20180111T170445Z
UID:ATEvent-a919d4ea56124791ba5472c56ad2cc6d
LAST-MODIFIED:20180111T170505Z
SUMMARY:Acque - denuncia delle quantità scaricate in pubblica fognatura nell'anno precedente per le province di Milano e Lodi
DTSTART:20180130T230000Z
DTEND:20180131T225500Z
CATEGORIES:Ambiente.Acqua, scadenze, Diritto d'impresa.Compliance societaria, Ambiente
CLASS:PUBLIC
END:VEVENT
END:VCALENDAR
